BEGIN:VCALENDAR
VERSION:2.0
PRODID:-//TheMoveMen - ECPv6.15.20//NONSGML v1.0//EN
CALSCALE:GREGORIAN
METHOD:PUBLISH
X-WR-CALNAME:TheMoveMen
X-ORIGINAL-URL:https://themovemen.org
X-WR-CALDESC:Eventos para TheMoveMen
REFRESH-INTERVAL;VALUE=DURATION:PT1H
X-Robots-Tag:noindex
X-PUBLISHED-TTL:PT1H
BEGIN:VTIMEZONE
TZID:UTC
BEGIN:STANDARD
TZOFFSETFROM:+0000
TZOFFSETTO:+0000
TZNAME:UTC
DTSTART:20230101T000000
END:STANDARD
END:VTIMEZONE
BEGIN:VEVENT
DTSTART;TZID=UTC:20241031T090000
DTEND;TZID=UTC:20241031T230000
DTSTAMP:20260426T001851
CREATED:20241017T094610Z
LAST-MODIFIED:20241017T094610Z
UID:1722-1730365200-1730415600@themovemen.org
SUMMARY:Diagnóstico precoz del cáncer de próstata en el entorno laboral
DESCRIPTION:
URL:https://themovemen.org/actividad/diagnostico-precoz-del-cancer-de-prostata-en-el-entorno-laboral/
CATEGORIES:Charlas
ATTACH;FMTTYPE=image/jpeg:https://themovemen.org/wp-content/uploads/2024/10/Diagnostico-precoz-del-cancer-de-prostata-en-el-entorno-laboral.jpeg
END:VEVENT
END:VCALENDAR