BEGIN:VCALENDAR
VERSION:2.0
PRODID:-//TheMoveMen - ECPv6.15.20//NONSGML v1.0//EN
CALSCALE:GREGORIAN
METHOD:PUBLISH
X-ORIGINAL-URL:https://themovemen.org
X-WR-CALDESC:Eventos para TheMoveMen
REFRESH-INTERVAL;VALUE=DURATION:PT1H
X-Robots-Tag:noindex
X-PUBLISHED-TTL:PT1H
BEGIN:VTIMEZONE
TZID:UTC
BEGIN:STANDARD
TZOFFSETFROM:+0000
TZOFFSETTO:+0000
TZNAME:UTC
DTSTART:20230101T000000
END:STANDARD
END:VTIMEZONE
BEGIN:VEVENT
DTSTART;VALUE=DATE:20241108
DTEND;VALUE=DATE:20241110
DTSTAMP:20260426T002126
CREATED:20241105T092012Z
LAST-MODIFIED:20241105T092012Z
UID:1777-1731024000-1731196799@themovemen.org
SUMMARY:Jornadas quirúrgicas
DESCRIPTION:DESCARGAR PROGRAMA
URL:https://themovemen.org/actividad/jornadas-quirurgicas/
CATEGORIES:Charlas
ATTACH;FMTTYPE=image/jpeg:https://themovemen.org/wp-content/uploads/2024/11/Programa-jornadas.jpg
END:VEVENT
END:VCALENDAR