BEGIN:VCALENDAR
VERSION:2.0
PRODID:-//TheMoveMen - ECPv6.15.20//NONSGML v1.0//EN
CALSCALE:GREGORIAN
METHOD:PUBLISH
X-ORIGINAL-URL:https://themovemen.org
X-WR-CALDESC:Eventos para TheMoveMen
REFRESH-INTERVAL;VALUE=DURATION:PT1H
X-Robots-Tag:noindex
X-PUBLISHED-TTL:PT1H
BEGIN:VTIMEZONE
TZID:UTC
BEGIN:STANDARD
TZOFFSETFROM:+0000
TZOFFSETTO:+0000
TZNAME:UTC
DTSTART:20230101T000000
END:STANDARD
END:VTIMEZONE
BEGIN:VEVENT
DTSTART;VALUE=DATE:20241118
DTEND;VALUE=DATE:20241120
DTSTAMP:20260426T002357
CREATED:20241017T091706Z
LAST-MODIFIED:20241017T091706Z
UID:1717-1731888000-1732060799@themovemen.org
SUMMARY:¡Forma parte del movimiento!
DESCRIPTION:Ponente confirmado del eProcurement Tech Summit: Javier Alcázar – Presidente y cofundador en TheMoveMen \n¿Tu empresa quiere colaborar? Escríbenos a bavelsummit@voxelgroup.net
URL:https://themovemen.org/actividad/forma-parte-del-movimiento/
LOCATION:Barcelona\, Barcelona\, España
CATEGORIES:Charlas
ATTACH;FMTTYPE=image/jpeg:https://themovemen.org/wp-content/uploads/2024/10/Evento.jpeg
END:VEVENT
END:VCALENDAR