BEGIN:VCALENDAR
VERSION:2.0
PRODID:-//TheMoveMen - ECPv6.15.20//NONSGML v1.0//EN
CALSCALE:GREGORIAN
METHOD:PUBLISH
X-ORIGINAL-URL:https://themovemen.org
X-WR-CALDESC:Eventos para TheMoveMen
REFRESH-INTERVAL;VALUE=DURATION:PT1H
X-Robots-Tag:noindex
X-PUBLISHED-TTL:PT1H
BEGIN:VTIMEZONE
TZID:UTC
BEGIN:STANDARD
TZOFFSETFROM:+0000
TZOFFSETTO:+0000
TZNAME:UTC
DTSTART:20250101T000000
END:STANDARD
END:VTIMEZONE
BEGIN:VEVENT
DTSTART;TZID=UTC:20260415T100000
DTEND;TZID=UTC:20260415T193000
DTSTAMP:20260424T123548
CREATED:20260414T061202Z
LAST-MODIFIED:20260414T061221Z
UID:2558-1776247200-1776281400@themovemen.org
SUMMARY:Cafés con Alma
DESCRIPTION:Un espacio impulsado por theMoveMen para hablar sin prisa sobre cáncer masculino\, compartir experiencias y acompañarnos en comunidad.
URL:https://themovemen.org/actividad/cafes-con-alma/
CATEGORIES:Charlas
ATTACH;FMTTYPE=image/jpeg:https://themovemen.org/wp-content/uploads/2026/04/cafes-con-alma.jpeg
END:VEVENT
END:VCALENDAR